BEGIN:VCALENDAR
VERSION:2.0
PRODID:icalendar-ruby
CALSCALE:GREGORIAN
METHOD:PUBLISH
BEGIN:VEVENT
DTSTAMP:20260424T034702Z
UID:21-446259@thebaytx.com
DTSTART:20261028T233000Z
DTEND:20261029T010000Z
CLASS:PUBLIC
CREATED:20260423T222043
DESCRIPTION:
LAST-MODIFIED:20260423T222043
LOCATION:The Bay Church
SUMMARY:The Harbor
URL;VALUE=URI:https://www.thebaytx.com/events/the-harbor/2026-10-28
END:VEVENT
END:VCALENDAR
