BEGIN:VCALENDAR
VERSION:2.0
PRODID:icalendar-ruby
CALSCALE:GREGORIAN
METHOD:PUBLISH
BEGIN:VEVENT
DTSTAMP:20260424T022429Z
UID:21-445883@thebaytx.com
DTSTART:20261021T233000Z
DTEND:20261022T010000Z
CLASS:PUBLIC
CREATED:20260423T192557
DESCRIPTION:
LAST-MODIFIED:20260423T192557
LOCATION:The Bay Church
SUMMARY:The Harbor
URL;VALUE=URI:https://www.thebaytx.com/events/the-harbor/2026-10-21
END:VEVENT
END:VCALENDAR
