BEGIN:VCALENDAR
VERSION:2.0
PRODID:icalendar-ruby
CALSCALE:GREGORIAN
METHOD:PUBLISH
BEGIN:VEVENT
DTSTAMP:20260423T235624Z
UID:21-445506@thebaytx.com
DTSTART:20261007T233000Z
DTEND:20261008T010000Z
CLASS:PUBLIC
CREATED:20260423T163302
DESCRIPTION:
LAST-MODIFIED:20260423T163302
LOCATION:The Bay Church
SUMMARY:The Harbor
URL;VALUE=URI:https://www.thebaytx.com/events/the-harbor/2026-10-07
END:VEVENT
END:VCALENDAR
