BEGIN:VCALENDAR
VERSION:2.0
PRODID:icalendar-ruby
CALSCALE:GREGORIAN
METHOD:PUBLISH
BEGIN:VEVENT
DTSTAMP:20260423T223849Z
UID:21-445505@thebaytx.com
DTSTART:20260930T233000Z
DTEND:20261001T010000Z
CLASS:PUBLIC
CREATED:20260423T163302
DESCRIPTION:
LAST-MODIFIED:20260423T163302
LOCATION:The Bay Church
SUMMARY:The Harbor
URL;VALUE=URI:https://www.thebaytx.com/events/the-harbor/2026-09-30
END:VEVENT
END:VCALENDAR
