BEGIN:VCALENDAR
VERSION:2.0
PRODID:icalendar-ruby
CALSCALE:GREGORIAN
METHOD:PUBLISH
BEGIN:VEVENT
DTSTAMP:20260423T211234Z
UID:21-445129@thebaytx.com
DTSTART:20260923T233000Z
DTEND:20260924T010000Z
CLASS:PUBLIC
CREATED:20260423T133832
DESCRIPTION:
LAST-MODIFIED:20260423T133832
LOCATION:The Bay Church
SUMMARY:The Harbor
URL;VALUE=URI:https://www.thebaytx.com/events/the-harbor/2026-09-23
END:VEVENT
END:VCALENDAR
