BEGIN:VCALENDAR
VERSION:2.0
PRODID:icalendar-ruby
CALSCALE:GREGORIAN
METHOD:PUBLISH
BEGIN:VEVENT
DTSTAMP:20260424T043558Z
UID:16-446186@thebaytx.com
DTSTART:20261101T161500Z
DTEND:20261101T170000Z
CLASS:PUBLIC
CREATED:20260423T222043
DESCRIPTION:
LAST-MODIFIED:20260423T222043
LOCATION:
SUMMARY:The Bay Kids Church
URL;VALUE=URI:https://www.thebaytx.com/events/the-bay-kids-church/2026-11-0
 1
END:VEVENT
END:VCALENDAR
