BEGIN:VCALENDAR
VERSION:2.0
PRODID:icalendar-ruby
CALSCALE:GREGORIAN
METHOD:PUBLISH
BEGIN:VEVENT
DTSTAMP:20260424T015728Z
UID:16-445809@thebaytx.com
DTSTART:20261018T151500Z
DTEND:20261018T160000Z
CLASS:PUBLIC
CREATED:20260423T192557
DESCRIPTION:
LAST-MODIFIED:20260423T192557
LOCATION:
SUMMARY:The Bay Kids Church
URL;VALUE=URI:https://www.thebaytx.com/events/the-bay-kids-church/2026-10-1
 8
END:VEVENT
END:VCALENDAR
