BEGIN:VCALENDAR
VERSION:2.0
PRODID:icalendar-ruby
CALSCALE:GREGORIAN
METHOD:PUBLISH
BEGIN:VEVENT
DTSTAMP:20260423T231648Z
UID:16-445432@thebaytx.com
DTSTART:20261004T151500Z
DTEND:20261004T160000Z
CLASS:PUBLIC
CREATED:20260423T163302
DESCRIPTION:
LAST-MODIFIED:20260423T163302
LOCATION:
SUMMARY:The Bay Kids Church
URL;VALUE=URI:https://www.thebaytx.com/events/the-bay-kids-church/2026-10-0
 4
END:VEVENT
END:VCALENDAR
