BEGIN:VCALENDAR
VERSION:2.0
PRODID:icalendar-ruby
CALSCALE:GREGORIAN
METHOD:PUBLISH
BEGIN:VEVENT
DTSTAMP:20260423T215259Z
UID:16-445431@thebaytx.com
DTSTART:20260927T151500Z
DTEND:20260927T160000Z
CLASS:PUBLIC
CREATED:20260423T163302
DESCRIPTION:
LAST-MODIFIED:20260423T163302
LOCATION:
SUMMARY:The Bay Kids Church
URL;VALUE=URI:https://www.thebaytx.com/events/the-bay-kids-church/2026-09-2
 7
END:VEVENT
END:VCALENDAR
