BEGIN:VCALENDAR
VERSION:2.0
PRODID:icalendar-ruby
CALSCALE:GREGORIAN
METHOD:PUBLISH
BEGIN:VEVENT
DTSTAMP:20260423T203714Z
UID:16-445055@thebaytx.com
DTSTART:20260920T151500Z
DTEND:20260920T160000Z
CLASS:PUBLIC
CREATED:20260423T133832
DESCRIPTION:
LAST-MODIFIED:20260423T133832
LOCATION:
SUMMARY:The Bay Kids Church
URL;VALUE=URI:https://www.thebaytx.com/events/the-bay-kids-church/2026-09-2
 0
END:VEVENT
END:VCALENDAR
