BEGIN:VCALENDAR
VERSION:2.0
PRODID:icalendar-ruby
CALSCALE:GREGORIAN
METHOD:PUBLISH
BEGIN:VEVENT
DTSTAMP:20260423T214408Z
UID:5-445394@thebaytx.com
DTSTART:20261018T153000Z
DTEND:20261018T163000Z
CLASS:PUBLIC
CREATED:20260423T163302
DESCRIPTION:Sunday Worship
LAST-MODIFIED:20260423T163302
LOCATION:
SUMMARY:Sunday Worship
URL;VALUE=URI:https://www.thebaytx.com/events/sunday-worship/2026-10-18
END:VEVENT
END:VCALENDAR
