BEGIN:VCALENDAR
VERSION:2.0
PRODID:icalendar-ruby
CALSCALE:GREGORIAN
METHOD:PUBLISH
BEGIN:VEVENT
DTSTAMP:20260423T092915Z
UID:5-443886@thebaytx.com
DTSTART:20260823T153000Z
DTEND:20260823T163000Z
CLASS:PUBLIC
CREATED:20260422T221851
DESCRIPTION:Sunday Worship
LAST-MODIFIED:20260422T221851
LOCATION:
SUMMARY:Sunday Worship
URL;VALUE=URI:https://www.thebaytx.com/events/sunday-worship/2026-08-23
END:VEVENT
END:VCALENDAR
