BEGIN:VCALENDAR
VERSION:2.0
PRODID:icalendar-ruby
CALSCALE:GREGORIAN
METHOD:PUBLISH
BEGIN:VEVENT
DTSTAMP:20260422T134529Z
UID:25-441397@thebaytx.com
DTSTART:20260427T000000Z
DTEND:20260429T000000Z
CLASS:PUBLIC
CREATED:20260421T201227
DESCRIPTION:
LAST-MODIFIED:20260421T201227
LOCATION:The Bay Church\, 20 Runaway Bay Dr\, Runaway Bay\, TX 76426
SUMMARY:Heaven's Gates & Hell's Flames
URL;VALUE=URI:https://www.thebaytx.com/events/heavens-gates-hells-flames/20
 26-04-26
END:VEVENT
END:VCALENDAR
