BEGIN:VCALENDAR
VERSION:2.0
PRODID:icalendar-ruby
CALSCALE:GREGORIAN
METHOD:PUBLISH
BEGIN:VEVENT
DTSTAMP:20260424T063928Z
UID:20-446223@thebaytx.com
DTSTART:20261105T003000Z
DTEND:20261105T020000Z
CLASS:PUBLIC
CREATED:20260423T222043
DESCRIPTION:
LAST-MODIFIED:20260423T222043
LOCATION:The Bay Church
SUMMARY:Bay Kids
URL;VALUE=URI:https://www.thebaytx.com/events/bay-kids/2026-11-04
END:VEVENT
END:VCALENDAR
