BEGIN:VCALENDAR
VERSION:2.0
PRODID:icalendar-ruby
CALSCALE:GREGORIAN
METHOD:PUBLISH
BEGIN:VEVENT
DTSTAMP:20260424T053341Z
UID:20-446222@thebaytx.com
DTSTART:20261028T233000Z
DTEND:20261029T010000Z
CLASS:PUBLIC
CREATED:20260423T222043
DESCRIPTION:
LAST-MODIFIED:20260423T222043
LOCATION:The Bay Church
SUMMARY:Bay Kids
URL;VALUE=URI:https://www.thebaytx.com/events/bay-kids/2026-10-28
END:VEVENT
END:VCALENDAR
