BEGIN:VCALENDAR
VERSION:2.0
PRODID:icalendar-ruby
CALSCALE:GREGORIAN
METHOD:PUBLISH
BEGIN:VEVENT
DTSTAMP:20260424T041351Z
UID:20-446221@thebaytx.com
DTSTART:20261021T233000Z
DTEND:20261022T010000Z
CLASS:PUBLIC
CREATED:20260423T222043
DESCRIPTION:
LAST-MODIFIED:20260423T222043
LOCATION:The Bay Church
SUMMARY:Bay Kids
URL;VALUE=URI:https://www.thebaytx.com/events/bay-kids/2026-10-21
END:VEVENT
END:VCALENDAR
