BEGIN:VCALENDAR
VERSION:2.0
PRODID:icalendar-ruby
CALSCALE:GREGORIAN
METHOD:PUBLISH
BEGIN:VEVENT
DTSTAMP:20260424T025637Z
UID:20-445845@thebaytx.com
DTSTART:20261014T233000Z
DTEND:20261015T010000Z
CLASS:PUBLIC
CREATED:20260423T192557
DESCRIPTION:
LAST-MODIFIED:20260423T192557
LOCATION:The Bay Church
SUMMARY:Bay Kids
URL;VALUE=URI:https://www.thebaytx.com/events/bay-kids/2026-10-14
END:VEVENT
END:VCALENDAR
