BEGIN:VCALENDAR
VERSION:2.0
PRODID:icalendar-ruby
CALSCALE:GREGORIAN
METHOD:PUBLISH
BEGIN:VEVENT
DTSTAMP:20260423T225251Z
UID:20-445467@thebaytx.com
DTSTART:20260923T233000Z
DTEND:20260924T010000Z
CLASS:PUBLIC
CREATED:20260423T163302
DESCRIPTION:
LAST-MODIFIED:20260423T163302
LOCATION:The Bay Church
SUMMARY:Bay Kids
URL;VALUE=URI:https://www.thebaytx.com/events/bay-kids/2026-09-23
END:VEVENT
END:VCALENDAR
