BEGIN:VCALENDAR
VERSION:2.0
PRODID:icalendar-ruby
CALSCALE:GREGORIAN
METHOD:PUBLISH
BEGIN:VEVENT
DTSTAMP:20260423T212555Z
UID:20-445091@thebaytx.com
DTSTART:20260916T233000Z
DTEND:20260917T010000Z
CLASS:PUBLIC
CREATED:20260423T133832
DESCRIPTION:
LAST-MODIFIED:20260423T133832
LOCATION:The Bay Church
SUMMARY:Bay Kids
URL;VALUE=URI:https://www.thebaytx.com/events/bay-kids/2026-09-16
END:VEVENT
END:VCALENDAR
